BEGIN:VCALENDAR
PRODID:-//kirchenweb.ch gmbh//veranstaltungsausgabe v2.0//DE
VERSION:2.0
METHOD:PUBLISH
BEGIN:VEVENT
DTSTART:20260805T073000Z
DTEND:20260805T081500Z
LOCATION:Alterszentrum Wiesengrund\, Etzelstrasse 44\, 8712 Stäfa
TRANSP:OPAQUE
SEQUENCE:0
UID:60533-veranstaltung@ref-staefa-hombrechtikon.ch
DTSTAMP:20251128T102746Z
DESCRIPTION:Kontakt: Evelyne Lott\n\nWeitere Infos:
  https://www.ref-staefa-hombrechtikon.ch/veranstaltung/60533
SUMMARY:kein Seniorengottesdienst
PRIORITY:5
X-MICROSOFT-CDO-IMPORTANCE:1
CLASS:PUBLIC
END:VEVENT
END:VCALENDAR
