BEGIN:VCALENDAR
PRODID:-//kirchenweb.ch gmbh//veranstaltungsausgabe v2.0//DE
VERSION:2.0
METHOD:PUBLISH
BEGIN:VEVENT
DTSTART:20260603T073000Z
DTEND:20260603T081500Z
LOCATION:Alterszentrum Wiesengrund\, Etzelstrasse 44\, 8712 Stäfa
TRANSP:OPAQUE
SEQUENCE:0
UID:60531-veranstaltung@ref-staefa-hombrechtikon.ch
DTSTAMP:20251204T150354Z
DESCRIPTION:Kontakt: Marc Heise\n\nWeitere Infos:
  https://www.ref-staefa-hombrechtikon.ch/veranstaltung/60531
SUMMARY:Seniorengottesdienst
PRIORITY:5
X-MICROSOFT-CDO-IMPORTANCE:1
CLASS:PUBLIC
END:VEVENT
END:VCALENDAR
