BEGIN:VCALENDAR
PRODID:-//kirchenweb.ch gmbh//veranstaltungsausgabe v2.0//DE
VERSION:2.0
METHOD:PUBLISH
BEGIN:VEVENT
DTSTART:20260625T164500Z
DTEND:20260625T172000Z
LOCATION:ref. Kirche Hombrechtikon\, Oetwilerstrasse 39\, 8634
  Hombrechtikon
TRANSP:OPAQUE
SEQUENCE:0
UID:60497-veranstaltung@ref-staefa-hombrechtikon.ch
DTSTAMP:20260409T164439Z
DESCRIPTION:Vor der Kirchgemeindeversammlung um 19.30 Uhr in der ref.
  Kirche Stäfa laden wir Sie herzlich zu einem Apéro ein. \n\nKontakt:
  Marco Della Rosa\n\nWeitere Infos:
  https://www.ref-staefa-hombrechtikon.ch/veranstaltung/60497
SUMMARY:Apéro vor Kirchgemeindeversammlung
PRIORITY:5
X-MICROSOFT-CDO-IMPORTANCE:1
CLASS:PUBLIC
END:VEVENT
END:VCALENDAR
