BEGIN:VCALENDAR
PRODID:-//kirchenweb.ch gmbh//veranstaltungsausgabe v2.0//DE
VERSION:2.0
METHOD:PUBLISH
BEGIN:VEVENT
DTSTART:20260509T080000Z
DTEND:20260509T120000Z
LOCATION:Kirchgemeindehaus Blatten\, \,
TRANSP:OPAQUE
SEQUENCE:0
UID:60474-veranstaltung@ref-staefa-hombrechtikon.ch
DTSTAMP:20260324T144151Z
DESCRIPTION:Warum immer neu kaufen\, wenn so vieles längst da ist?\n
 \nUnsere Kleiderschränke sind voll – und trotzdem wächst das Gefühl\,
  es fehle noch etwas. Die Modeindustrie lebt von diesem Widerspruch. Sie
  produziert im Überfluss\, oft unter fragwürdigen Bedingungen\, und
  hinterlässt Spuren – ökologisch wie menschlich.\n\nDer Kleidertausch
  setzt hier bewusst einen anderen Akzent. Statt neu zu kaufen\, geben wir
  weiter. Statt wegzuwerfen\, teilen wir. Was die eine nicht mehr trägt\,
  kann für den anderen genau das Richtige sein.\n\nDas Prinzip ist
  einfach: Bringen Sie gut erhaltene Kleidung\, Schuhe oder Accessoires mit
  – und nehmen Sie mit\, was Ihnen gefällt. Ohne Geld\, ohne Listen\,
  ohne Verpflichtung. Nur die Freude am Entdecken zählt.\n\nUnd vielleicht
  passiert dabei mehr\, als man denkt: ein neuer Blick auf das Eigene\, ein
  Gespräch am Tisch\, ein Moment von Leichtigkeit. Dazu gibt es Kaffee\,
  Kuchen und Suppe.\n\nKommen Sie vorbei – auch ohne etwas mitzubringen.
 \n\nKontakt: David Jäger\n\nWeitere Infos:
  https://www.ref-staefa-hombrechtikon.ch/veranstaltung/60474
SUMMARY:Kleider tauschen statt kaufen
PRIORITY:5
X-MICROSOFT-CDO-IMPORTANCE:1
CLASS:PUBLIC
END:VEVENT
END:VCALENDAR
