BEGIN:VCALENDAR
PRODID:-//kirchenweb.ch gmbh//veranstaltungsausgabe v2.0//DE
VERSION:2.0
METHOD:PUBLISH
BEGIN:VEVENT
DTSTART:20261112T190000Z
DTEND:20261112T200000Z
LOCATION:Vineyard\, \, 8634 Hombrechtikon
TRANSP:OPAQUE
SEQUENCE:0
UID:60472-veranstaltung@ref-staefa-hombrechtikon.ch
DTSTAMP:20251124T154248Z
DESCRIPTION:Kontakt: Elisabeth Görnitz\n\nWeitere Infos:
  https://www.ref-staefa-hombrechtikon.ch/veranstaltung/60472
SUMMARY:Gebet für Hombi
PRIORITY:5
X-MICROSOFT-CDO-IMPORTANCE:1
CLASS:PUBLIC
END:VEVENT
END:VCALENDAR
