BEGIN:VCALENDAR
PRODID:-//kirchenweb.ch gmbh//veranstaltungsausgabe v2.0//DE
VERSION:2.0
METHOD:PUBLISH
BEGIN:VEVENT
DTSTART:20261031T160000Z
DTEND:20261031T173000Z
LOCATION:Kirchgemeindehaus Blatten\, Bahnweg 6\, 8634 Hombrechtikon
TRANSP:OPAQUE
SEQUENCE:0
UID:60445-veranstaltung@ref-staefa-hombrechtikon.ch
DTSTAMP:20251215T113427Z
DESCRIPTION:Ein Programm der Schauspielgruppe THEATERplus.\nAnsprechend
  – kurzweilig – zum Nachdenken anregend.\n\nIm Anschluss an das
  Theaterstück bietet die reformierte Kirche einen kostenfreien Apéro an
  zum Verweilen und Austauschen über das Gesehene.\n\n\nÜber die
  Theatergruppe\nHinter THEATERplus verbirgt sich eine Gruppe von Menschen
  aus unterschiedlichen Kirchgemeinden der Region\, die die Freude am
  Schauspielern und kreativen Darstellen verbindet. In ihren
  selbstgeschriebenen Theaterstücken möchten sie mit Freude und Humor
  Menschen zum Nachdenken über Gott und die Welt anregen.\n\n\n\nKontakt:
  Elisabeth Görnitz\n\nWeitere Infos:
  https://www.ref-staefa-hombrechtikon.ch/veranstaltung/60445
SUMMARY:THEATERplus: Christliches Theaterstück
PRIORITY:5
X-MICROSOFT-CDO-IMPORTANCE:1
CLASS:PUBLIC
END:VEVENT
END:VCALENDAR
