BEGIN:VCALENDAR
PRODID:-//kirchenweb.ch gmbh//veranstaltungsausgabe v2.0//DE
VERSION:2.0
METHOD:PUBLISH
BEGIN:VEVENT
DTSTART:20261024T130000Z
DTEND:20261024T160000Z
LOCATION:Forum Kirchbühl\, Saal\, Kirchbühlstrasse 40\, 8712 Stäfa
TRANSP:OPAQUE
SEQUENCE:0
UID:60420-veranstaltung@ref-staefa-hombrechtikon.ch
DTSTAMP:20251112T220341Z
DESCRIPTION:Kontakt: Luzius Appenzeller\, 044 910 08 63 \n\nWeitere Infos:
  https://www.ref-staefa-hombrechtikon.ch/veranstaltung/60420
SUMMARY:Probenachmittag Kirchenchöre
PRIORITY:5
X-MICROSOFT-CDO-IMPORTANCE:1
CLASS:PUBLIC
END:VEVENT
END:VCALENDAR
