BEGIN:VCALENDAR
PRODID:-//kirchenweb.ch gmbh//veranstaltungsausgabe v2.0//DE
VERSION:2.0
METHOD:PUBLISH
BEGIN:VEVENT
DTSTART:20260702T170000Z
DTEND:20260702T183000Z
LOCATION:Kirchgemeindehaus Blatten\, Bahnweg 6\, 8634 Hombrechtikon
TRANSP:OPAQUE
SEQUENCE:0
UID:60390-veranstaltung@ref-staefa-hombrechtikon.ch
DTSTAMP:20260416T080011Z
DESCRIPTION:Die Fünf Freunde geben Auskunft über ihren Glauben. \n
 \nKontakt: Monika Götte\n\nWeitere Infos:
  https://www.ref-staefa-hombrechtikon.ch/veranstaltung/60390
SUMMARY:verschoben: Frag die Fünf Freunde
PRIORITY:5
X-MICROSOFT-CDO-IMPORTANCE:1
CLASS:PUBLIC
END:VEVENT
END:VCALENDAR
