BEGIN:VCALENDAR
PRODID:-//kirchenweb.ch gmbh//veranstaltungsausgabe v2.0//DE
VERSION:2.0
METHOD:PUBLISH
BEGIN:VEVENT
DTSTART:20260605T113000Z
DTEND:20260605T140000Z
LOCATION:Extern\, \,
TRANSP:OPAQUE
SEQUENCE:0
UID:60306-veranstaltung@ref-staefa-hombrechtikon.ch
DTSTAMP:20260409T113509Z
DESCRIPTION:Ab Frühling wird das Diakonieteam mit einer Pfarrperson in
  den Quartieren der Gemeinde mit einer mobilen Bar unterwegs sein.  Unsere
  spezielle Bar wird auffallen. Es handelt sich dabei um eine «Sargbar»\,
  dies ist ein gewöhnlicher Sarg\, der von Jugendlichen im Rahmen der
  kirchlichen Jugendarbeit in eine Bar umgestaltet wurde. \nAn der Bar
  können bei einer Tasse Kaffee oder Tee Gespräche über Gott und die
  Welt stattfinden. Wir möchten bei unseren Quartierbesuchen mit den
  Menschen über das Leben sprechen\, über die Freuden und Sorgen\, über
  das Lebenswerte und die Werte des Lebens. Auch Gespräche über das
  Sterben und den Tod können an der Bar stattfinden\, über das\, was
  einen beschäftigt oder ängstigt.\n\nWir freuen uns auf zahlreiche
  Begegnungen mit Menschen aller Altersgruppen!\nIhr Diakonie- und
  Pfarrteam\n\nErkennungszeichen: Sargbar\, Kirchenbanner und lächelnde
  Gesichter.\nDie Anlässe finden nur bei trockener Witterung statt.\n
 \nKontakt: Monika Kaspar\nUrsula Pernet\n\nWeitere Infos:
  https://www.ref-staefa-hombrechtikon.ch/veranstaltung/60306
SUMMARY:Outgoing- Kirche im Quartier - Häldelistrasse\, Stäfa
PRIORITY:5
X-MICROSOFT-CDO-IMPORTANCE:1
CLASS:PUBLIC
END:VEVENT
END:VCALENDAR
