BEGIN:VCALENDAR
PRODID:-//kirchenweb.ch gmbh//veranstaltungsausgabe v2.0//DE
VERSION:2.0
METHOD:PUBLISH
BEGIN:VEVENT
DTSTART:20260827T153000Z
DTEND:20260827T161500Z
LOCATION:Pfarrhauskeller Stäfa\, Kirchbühlstrasse 40\, 8712 Stäfa
TRANSP:OPAQUE
SEQUENCE:0
UID:60293-veranstaltung@ref-staefa-hombrechtikon.ch
DTSTAMP:20260407T102636Z
DESCRIPTION:Mit Ursula Brunner.\nEs geschah in diesen Tagen\, dass Jesus
  wegging auf den Berg\, um zu\nbeten. Und er verbrachte die ganze Nacht im
  Gebet zu Gott. (Lukas 6\,12)\nIm Lärm und Getriebe des Alltags und der
  eigenen Gedanken innehalten\nund die Sprache der Stille entdecken:\nDie
  Meditation im Pfarrhauskeller Stäfa ist ein spirituelles Angebot\,\nmit
  dem Ziel zur Ruhe zu kommen\, ganz bei sich und dem göttlichem
 \nGeheimnis einzukehren und sich mit seinem ganzen Sein auf\nGott
  auszurichten. Die geführte Meditation wird bereichert durch die
 \nGruppe\, gemeinsam kommen wir zur Ruhe:\nNach dem kurzen Input\,
  Hinführung und bewusstem Atmen und\nKörperwahrnehmung folgt die Zeit
  der Stille. Lied und Gebet begleiten\ndie einzelnen Teile. Mit einem
  Segen gehen Sie in den Abend.\nBeten heisst: still werden und still sein
  und warten\, bis der Betende\nGott hört. (S. Kierkegaard)\n\nKontakt:
  Ursula Brunner\n044 980 66 41\n\n\nWeitere Infos:
  https://www.ref-staefa-hombrechtikon.ch/veranstaltung/60293
SUMMARY:Meditation
PRIORITY:5
X-MICROSOFT-CDO-IMPORTANCE:1
CLASS:PUBLIC
END:VEVENT
END:VCALENDAR
