BEGIN:VCALENDAR
PRODID:-//kirchenweb.ch gmbh//veranstaltungsausgabe v2.0//DE
VERSION:2.0
METHOD:PUBLISH
BEGIN:VEVENT
DTSTART:20260326T163000Z
DTEND:20260326T171500Z
LOCATION:Pfarrhauskeller Stäfa\, Kirchbühlstrasse 40\, 8712 Stäfa
TRANSP:OPAQUE
SEQUENCE:0
UID:60289-veranstaltung@ref-staefa-hombrechtikon.ch
DTSTAMP:20251028T152908Z
DESCRIPTION:Mit Ursula Brunner. \nDas Wort «Kontemplation» (vom
  lateinischen «contemplari») bedeutet «betrachten\, schauen». Es geht
  in der Kontemplation darum\, das stille Wirken Gottes in sich selbst und
  im eigenen Leben wahrzunehmen. Kontemplation möchte von der Zerstreuung
  des Alltags in ein achtsames Wahrnehmen des Geistes führen. \nNach einem
  kurzen Input\, Hinführung zu bewusstem Atmen und Körperwahrnehmung\,
  folgt die Zeit der Stille. Lied und Gebet begleiten die einzelnen Teile. 
 \n\nKontakt: Ursula Brunner\n044 980 66 41\n\n\nWeitere Infos:
  https://www.ref-staefa-hombrechtikon.ch/veranstaltung/60289
SUMMARY:Kontemplation
PRIORITY:5
X-MICROSOFT-CDO-IMPORTANCE:1
CLASS:PUBLIC
END:VEVENT
END:VCALENDAR
