BEGIN:VCALENDAR
PRODID:-//kirchenweb.ch gmbh//veranstaltungsausgabe v2.0//DE
VERSION:2.0
METHOD:PUBLISH
BEGIN:VEVENT
DTSTART:20260921T060000Z
DTEND:20260921T070000Z
LOCATION:Kirchgemeinde Stäfa-Hombrechtikon\, \,
TRANSP:OPAQUE
SEQUENCE:0
UID:60171-veranstaltung@ref-staefa-hombrechtikon.ch
DTSTAMP:20260317T120655Z
DESCRIPTION:Kontakt: Monika Götte\n\nWeitere Infos:
  https://www.ref-staefa-hombrechtikon.ch/veranstaltung/60171
SUMMARY:Amtswoche 39 - Monika Götte
PRIORITY:5
X-MICROSOFT-CDO-IMPORTANCE:1
CLASS:PUBLIC
END:VEVENT
END:VCALENDAR
