BEGIN:VCALENDAR
PRODID:-//kirchenweb.ch gmbh//veranstaltungsausgabe v2.0//DE
VERSION:2.0
METHOD:PUBLISH
BEGIN:VEVENT
DTSTART:20261123T070000Z
DTEND:20261123T080000Z
LOCATION:Kirchgemeinde Stäfa-Hombrechtikon\, \,
TRANSP:OPAQUE
SEQUENCE:0
UID:60157-veranstaltung@ref-staefa-hombrechtikon.ch
DTSTAMP:20251010T123458Z
DESCRIPTION:Kontakt: Elisabeth Görnitz\n\nWeitere Infos:
  https://www.ref-staefa-hombrechtikon.ch/veranstaltung/60157
SUMMARY:Amtswoche 48 - Elisabeth Görnitz
PRIORITY:5
X-MICROSOFT-CDO-IMPORTANCE:1
CLASS:PUBLIC
END:VEVENT
END:VCALENDAR
