BEGIN:VCALENDAR
PRODID:-//kirchenweb.ch gmbh//veranstaltungsausgabe v2.0//DE
VERSION:2.0
METHOD:PUBLISH
BEGIN:VEVENT
DTSTART:20261116T070000Z
DTEND:20261116T080000Z
LOCATION:Kirchgemeinde Stäfa-Hombrechtikon\, \,
TRANSP:OPAQUE
SEQUENCE:0
UID:60155-veranstaltung@ref-staefa-hombrechtikon.ch
DTSTAMP:20251010T121607Z
DESCRIPTION:Kontakt: Tobias Kuratle\n\nWeitere Infos:
  https://www.ref-staefa-hombrechtikon.ch/veranstaltung/60155
SUMMARY:Amtswoche 47 - Tobias Kuratle
PRIORITY:5
X-MICROSOFT-CDO-IMPORTANCE:1
CLASS:PUBLIC
END:VEVENT
END:VCALENDAR
