BEGIN:VCALENDAR
PRODID:-//kirchenweb.ch gmbh//veranstaltungsausgabe v2.0//DE
VERSION:2.0
METHOD:PUBLISH
BEGIN:VEVENT
DTSTART:20261019T060000Z
DTEND:20261019T070000Z
LOCATION:Kirchgemeinde Stäfa-Hombrechtikon\, \,
TRANSP:OPAQUE
SEQUENCE:0
UID:60151-veranstaltung@ref-staefa-hombrechtikon.ch
DTSTAMP:20251010T121442Z
DESCRIPTION:Kontakt: Monika Götte\n\nWeitere Infos:
  https://www.ref-staefa-hombrechtikon.ch/veranstaltung/60151
SUMMARY:Amtswoche 43 - Monika Götte
PRIORITY:5
X-MICROSOFT-CDO-IMPORTANCE:1
CLASS:PUBLIC
END:VEVENT
END:VCALENDAR
