BEGIN:VCALENDAR
PRODID:-//kirchenweb.ch gmbh//veranstaltungsausgabe v2.0//DE
VERSION:2.0
METHOD:PUBLISH
BEGIN:VEVENT
DTSTART:20261012T060000Z
DTEND:20261012T070000Z
LOCATION:Kirchgemeinde Stäfa-Hombrechtikon\, \,
TRANSP:OPAQUE
SEQUENCE:0
UID:60150-veranstaltung@ref-staefa-hombrechtikon.ch
DTSTAMP:20251010T121257Z
DESCRIPTION:Kontakt: Tobias Kuratle\n\nWeitere Infos:
  https://www.ref-staefa-hombrechtikon.ch/veranstaltung/60150
SUMMARY:Amtswoche 42 - Tobias Kuratle
PRIORITY:5
X-MICROSOFT-CDO-IMPORTANCE:1
CLASS:PUBLIC
END:VEVENT
END:VCALENDAR
