BEGIN:VCALENDAR
PRODID:-//kirchenweb.ch gmbh//veranstaltungsausgabe v2.0//DE
VERSION:2.0
METHOD:PUBLISH
BEGIN:VEVENT
DTSTART:20261005T060000Z
DTEND:20261005T070000Z
LOCATION:Kirchgemeinde Stäfa-Hombrechtikon\, \,
TRANSP:OPAQUE
SEQUENCE:0
UID:60149-veranstaltung@ref-staefa-hombrechtikon.ch
DTSTAMP:20260122T131550Z
DESCRIPTION:Bei Abdankungen in dieser Amtswoche bitte zuerst Rücksprache
  mit der Pfarrerin Marjoline Roth.\n\nKontakt: Marjoline Roth\, Tel. 079
  391 00 65\n\nWeitere Infos:
  https://www.ref-staefa-hombrechtikon.ch/veranstaltung/60149
SUMMARY:Amtswoche 41 - Marjoline Roth
PRIORITY:5
X-MICROSOFT-CDO-IMPORTANCE:1
CLASS:PUBLIC
END:VEVENT
END:VCALENDAR
