BEGIN:VCALENDAR
PRODID:-//kirchenweb.ch gmbh//veranstaltungsausgabe v2.0//DE
VERSION:2.0
METHOD:PUBLISH
BEGIN:VEVENT
DTSTART:20260907T060000Z
DTEND:20260907T070000Z
LOCATION:Kirchgemeinde Stäfa-Hombrechtikon\, \,
TRANSP:OPAQUE
SEQUENCE:0
UID:60146-veranstaltung@ref-staefa-hombrechtikon.ch
DTSTAMP:20260319T152942Z
DESCRIPTION:Fr. 11.9. Amtstag gesperrt\n\nKontakt: David Jäger\n\nWeitere
  Infos: https://www.ref-staefa-hombrechtikon.ch/veranstaltung/60146
SUMMARY:Amtswoche 37 - David Jäger
PRIORITY:5
X-MICROSOFT-CDO-IMPORTANCE:1
CLASS:PUBLIC
END:VEVENT
END:VCALENDAR
