BEGIN:VCALENDAR
PRODID:-//kirchenweb.ch gmbh//veranstaltungsausgabe v2.0//DE
VERSION:2.0
METHOD:PUBLISH
BEGIN:VEVENT
DTSTART:20260629T060000Z
DTEND:20260629T070000Z
LOCATION:Kirchgemeinde Stäfa-Hombrechtikon\, \,
TRANSP:OPAQUE
SEQUENCE:0
UID:60136-veranstaltung@ref-staefa-hombrechtikon.ch
DTSTAMP:20260416T131243Z
DESCRIPTION:Di 30.6. Amtsnachmittag gesperrt\, Beisetzung vormittags
  möglich\nDo 2.7. Amtsnachmittag gesperrt\, Beisetzung vormittags
  möglich\n\nKontakt: Monika Götte\n\nWeitere Infos:
  https://www.ref-staefa-hombrechtikon.ch/veranstaltung/60136
SUMMARY:Amtswoche 27 - Monika Götte
PRIORITY:5
X-MICROSOFT-CDO-IMPORTANCE:1
CLASS:PUBLIC
END:VEVENT
END:VCALENDAR
