BEGIN:VCALENDAR
PRODID:-//kirchenweb.ch gmbh//veranstaltungsausgabe v2.0//DE
VERSION:2.0
METHOD:PUBLISH
BEGIN:VEVENT
DTSTART:20260622T060000Z
DTEND:20260622T070000Z
LOCATION:Kirchgemeinde Stäfa-Hombrechtikon\, \,
TRANSP:OPAQUE
SEQUENCE:0
UID:60135-veranstaltung@ref-staefa-hombrechtikon.ch
DTSTAMP:20251014T145353Z
DESCRIPTION:Fr 26.6. Abdankung in Stäfa nicht möglich\n\nKontakt: Tobias
  Kuratle\n\nWeitere Infos:
  https://www.ref-staefa-hombrechtikon.ch/veranstaltung/60135
SUMMARY:Amtswoche 26 - Tobias Kuratle
PRIORITY:5
X-MICROSOFT-CDO-IMPORTANCE:1
CLASS:PUBLIC
END:VEVENT
END:VCALENDAR
