BEGIN:VCALENDAR
PRODID:-//kirchenweb.ch gmbh//veranstaltungsausgabe v2.0//DE
VERSION:2.0
METHOD:PUBLISH
BEGIN:VEVENT
DTSTART:20260601T060000Z
DTEND:20260601T070000Z
LOCATION:Kirchgemeinde Stäfa-Hombrechtikon\, \,
TRANSP:OPAQUE
SEQUENCE:0
UID:60132-veranstaltung@ref-staefa-hombrechtikon.ch
DTSTAMP:20260217T065901Z
DESCRIPTION:MI 3.6.2026 Amtstag gesperrt \n\nKontakt: David Jäger\n
 \nWeitere Infos:
  https://www.ref-staefa-hombrechtikon.ch/veranstaltung/60132
SUMMARY:Amtswoche 23 - David Jäger
PRIORITY:5
X-MICROSOFT-CDO-IMPORTANCE:1
CLASS:PUBLIC
END:VEVENT
END:VCALENDAR
