BEGIN:VCALENDAR
PRODID:-//kirchenweb.ch gmbh//veranstaltungsausgabe v2.0//DE
VERSION:2.0
METHOD:PUBLISH
BEGIN:VEVENT
DTSTART:20260914T060000Z
DTEND:20260914T070000Z
LOCATION:Kirchgemeinde Stäfa-Hombrechtikon\, \,
TRANSP:OPAQUE
SEQUENCE:0
UID:60096-veranstaltung@ref-staefa-hombrechtikon.ch
DTSTAMP:20260413T072044Z
DESCRIPTION:Fr. 18.9. Beisetzung am Grab möglich\, Abdankung in der
  Kirche nicht möglich (Kirchenmusiktag)\n\nKontakt: Marc Heise\n\nWeitere
  Infos: https://www.ref-staefa-hombrechtikon.ch/veranstaltung/60096
SUMMARY:Amtswoche 38 - Marc Heise
PRIORITY:5
X-MICROSOFT-CDO-IMPORTANCE:1
CLASS:PUBLIC
END:VEVENT
END:VCALENDAR
