BEGIN:VCALENDAR
PRODID:-//kirchenweb.ch gmbh//veranstaltungsausgabe v2.0//DE
VERSION:2.0
METHOD:PUBLISH
BEGIN:VEVENT
DTSTART:20260519T070000Z
DTEND:20260519T090000Z
LOCATION:Kirchgemeindehaus Blatten\, Bahnweg 6\, 8634 Hombrechtikon
TRANSP:OPAQUE
SEQUENCE:0
UID:60053-veranstaltung@ref-staefa-hombrechtikon.ch
DTSTAMP:20251002T124000Z
DESCRIPTION:Kontakt: Marc Heise\n\nWeitere Infos:
  https://www.ref-staefa-hombrechtikon.ch/veranstaltung/60053
SUMMARY:Morgentisch
PRIORITY:5
X-MICROSOFT-CDO-IMPORTANCE:1
CLASS:PUBLIC
END:VEVENT
END:VCALENDAR
