BEGIN:VCALENDAR
PRODID:-//kirchenweb.ch gmbh//veranstaltungsausgabe v2.0//DE
VERSION:2.0
METHOD:PUBLISH
BEGIN:VEVENT
DTSTART:20260831T060000Z
DTEND:20260831T070000Z
LOCATION:Kirchgemeinde Stäfa-Hombrechtikon\, \,
TRANSP:OPAQUE
SEQUENCE:0
UID:60046-veranstaltung@ref-staefa-hombrechtikon.ch
DTSTAMP:20251002T063855Z
DESCRIPTION:Kontakt: Christian Frei\, Tel. 079 611 55 15\n\nWeitere Infos:
  https://www.ref-staefa-hombrechtikon.ch/veranstaltung/60046
SUMMARY:Amtswoche 36 - Christian Frei
PRIORITY:5
X-MICROSOFT-CDO-IMPORTANCE:1
CLASS:PUBLIC
END:VEVENT
END:VCALENDAR
