BEGIN:VCALENDAR
PRODID:-//kirchenweb.ch gmbh//veranstaltungsausgabe v2.0//DE
VERSION:2.0
METHOD:PUBLISH
BEGIN:VEVENT
DTSTART:20260504T060000Z
DTEND:20260504T070000Z
LOCATION:Kirchgemeinde Stäfa-Hombrechtikon\, \,
TRANSP:OPAQUE
SEQUENCE:0
UID:60045-veranstaltung@ref-staefa-hombrechtikon.ch
DTSTAMP:20260420T064429Z
DESCRIPTION:Di 5.5. nachmittags keine Abdankung möglich\, Beisetzung am
  Vormittag möglich (Abdankung in Ritterhauskapelle)\nFr 8.5. nachmittags
  keine Abdankung möglich\n\nKontakt: Christian Frei\, Tel. 079 611 55 15
 \n\nWeitere Infos:
  https://www.ref-staefa-hombrechtikon.ch/veranstaltung/60045
SUMMARY:Amtswoche 19 - Christian Frei
PRIORITY:5
X-MICROSOFT-CDO-IMPORTANCE:1
CLASS:PUBLIC
END:VEVENT
END:VCALENDAR
