BEGIN:VCALENDAR
PRODID:-//kirchenweb.ch gmbh//veranstaltungsausgabe v2.0//DE
VERSION:2.0
METHOD:PUBLISH
BEGIN:VEVENT
DTSTART:20261122T090000Z
DTEND:20261122T100000Z
LOCATION:ref. Kirche Stäfa\, Kirchbühlstrasse 40\, 8712 Stäfa
TRANSP:OPAQUE
SEQUENCE:0
UID:59985-veranstaltung@ref-staefa-hombrechtikon.ch
DTSTAMP:20260327T163222Z
DESCRIPTION:Herzliche Einladung\, Eintritt frei\n\nKontakt: Soyoung Lee
  Molitor\n\nWeitere Infos:
  https://www.ref-staefa-hombrechtikon.ch/veranstaltung/59985
SUMMARY:Matinée mit Soyoung Lee Molitor
PRIORITY:5
X-MICROSOFT-CDO-IMPORTANCE:1
CLASS:PUBLIC
END:VEVENT
END:VCALENDAR
