BEGIN:VCALENDAR
PRODID:-//kirchenweb.ch gmbh//veranstaltungsausgabe v2.0//DE
VERSION:2.0
METHOD:PUBLISH
BEGIN:VEVENT
DTSTART:20260329T080000Z
DTEND:20260329T083000Z
LOCATION:ref. Kirche Stäfa\, Kirchbühlstrasse 40\, 8712 Stäfa
TRANSP:OPAQUE
SEQUENCE:0
UID:59975-veranstaltung@ref-staefa-hombrechtikon.ch
DTSTAMP:20260328T161255Z
DESCRIPTION:Matinée mit Emanuel Andriescu und Maria Mark\n\nSonntag\, 29.
  März 10 Uhr\nReformierte Kirche Stäfa \n\nKontakt: Maria Mark\n
 \nWeitere Infos:
  https://www.ref-staefa-hombrechtikon.ch/veranstaltung/59975
SUMMARY:Matinée mit Maria Mark
PRIORITY:5
X-MICROSOFT-CDO-IMPORTANCE:1
CLASS:PUBLIC
END:VEVENT
END:VCALENDAR
