BEGIN:VCALENDAR
PRODID:-//kirchenweb.ch gmbh//veranstaltungsausgabe v2.0//DE
VERSION:2.0
METHOD:PUBLISH
BEGIN:VEVENT
DTSTART:20260524T150000Z
DTEND:20260524T160000Z
LOCATION:ref. Kirche Hombrechtikon\, Oetwilerstrasse 39\, 8634
  Hombrechtikon
TRANSP:OPAQUE
SEQUENCE:0
UID:59974-veranstaltung@ref-staefa-hombrechtikon.ch
DTSTAMP:20260401T091016Z
DESCRIPTION:Am Pfingst-Sonntag\, 24. Mai 2026 um 17 Uhr\, wird die
  Hombrechtiker Organistin Maria Mark in der Reformierten Kirche
  Hombrechtikon ein musikalisches Pfingstfeuer entfachen.\n\nWenn es um
  Pfingsten geht\, dann ist wohl die Orgel das geeignete Instrument\, denn
  bei ihr liegt vom sanften Säuseln bis zum flammenden Brausen alles drin.
  \nSo spielt Maria Mark von Johann Sebastian Bach\, dem barocken
  Orgelmeister die Fantasia super «Komm heiliger Geist»\, von Bachs
  grossem Organistenvorbild Dietrich Buxtehude die Choralbearbeitungen
  «Komm\, Heiliger Geist\, Herre Gott». Viele Komponisten wollten diesen
  Heiligen Geist musikalisch einfangen und vertonen… so auch Olivier
  Messiäen mit seiner Pfingstmesse\, aus der einzelne Sätze gespielt
  werden. Ein flimmerndes Feuerwerk komponierte Eugène Gigout mit seiner
  Toccata in h-moll. Aber auch zeitgenössische Vertonungen von englischen
  Komponisten wie David Blackwells «Walk in the Light» dürfen nicht
  fehlen.\nWieder wird es eine Freude sein\, den Klängen der schönen
  Hombrechtiker Orgel zu lauschen\, die Vielfalt an Musik-Stilen zu
  geniessen und in die Welt der Orgel-Musik einzutauchen.\n\nSeien Sie
  herzlich Willkommen!\n\nEintritt frei - Kollekte\n\n\nKontakt: Maria Mark
 \n\nWeitere Infos:
  https://www.ref-staefa-hombrechtikon.ch/veranstaltung/59974
SUMMARY:Pfingstkonzert mit Maria Mark
PRIORITY:5
X-MICROSOFT-CDO-IMPORTANCE:1
CLASS:PUBLIC
END:VEVENT
END:VCALENDAR
