BEGIN:VCALENDAR
PRODID:-//kirchenweb.ch gmbh//veranstaltungsausgabe v2.0//DE
VERSION:2.0
METHOD:PUBLISH
BEGIN:VEVENT
DTSTART:20260912T120000Z
DTEND:20260912T150000Z
LOCATION:ref. Kirche Stäfa\, Kirchbühlstrasse 40\, 8712 Stäfa
TRANSP:OPAQUE
SEQUENCE:0
UID:59883-veranstaltung@ref-staefa-hombrechtikon.ch
DTSTAMP:20260227T094006Z
DESCRIPTION:im Rahmen des "Stäfner-Musig-Tag" mit der ökum. Singschule
  Stäfa\, Cantalino und Kinderchor\n\nfür Gross und Klein\, Jung und
  Alt\, von Nah und Fern\n\nUm 14.00 Uhr singen wir gemeinsam - mit Chören
  der Ökumenischen Singschule Stäfa - Lieder aus verschiedenen
  Stilrichtungen.\n\nZvieri-Pause mit Kuchen-Buffet\n\nUm 16.00 Uhr
  gelangen beim Konzert in der reformierten Kirche Stäfa die einstudierten
  Stücke zur Aufführung. Die Singschulchöre präsentieren dazu ebenfalls
  ihre eigenen Chorstücke.\nZuhörerinnen und Zuhörer sind herzlich
  willkommen.\n\nWer erleben möchte\, wieviel Spass es macht\, miteinander
  zu singen und auf der Bühne zu stehen\, ist herzlich willkommen!\n\nEs
  sind keine Vorkenntnisse erforderlich.\n\nWir freuen uns auf begeisterte
  Teilnehmerinnen und Teilnehmer und ein tolles Publikum!\n\nLeitung:
  Katharina Maier-Boesch\n\nWeiter Auskünfte erteilt gerne\nKatharina
  Maier-Boesch\n\nKontakt: Katharina Maier-Boesch\n\nWeitere Infos:
  https://www.ref-staefa-hombrechtikon.ch/veranstaltung/59883
SUMMARY:ökum. Singschule Generationensingen
PRIORITY:5
X-MICROSOFT-CDO-IMPORTANCE:1
CLASS:PUBLIC
END:VEVENT
END:VCALENDAR
