BEGIN:VCALENDAR
PRODID:-//kirchenweb.ch gmbh//veranstaltungsausgabe v2.0//DE
VERSION:2.0
METHOD:PUBLISH
BEGIN:VEVENT
DTSTART:20260821T170000Z
DTEND:20260821T203000Z
LOCATION:Forum Kirchbühl Stäfa\, Kirchbühlstrasse 40\, 8712 Stäfa
TRANSP:OPAQUE
SEQUENCE:0
UID:59836-veranstaltung@ref-staefa-hombrechtikon.ch
DTSTAMP:20260318T095913Z
DESCRIPTION:Regelmässiges Treffen von Männer zum gemeinsamen Kochen und
  Gesprächen zu verschiedenen Themen.\n\nWeitere Infos unter
  www.ref-staefa-hombrechtikon.ch/cook-talk\n\nKontakt: Andreas Erni\, Tel.
  043 497 02 04\n\nWeitere Infos:
  https://www.ref-staefa-hombrechtikon.ch/veranstaltung/59836
SUMMARY:cook&talk - Kochen für Männer
PRIORITY:5
X-MICROSOFT-CDO-IMPORTANCE:1
CLASS:PUBLIC
END:VEVENT
END:VCALENDAR
