BEGIN:VCALENDAR
PRODID:-//kirchenweb.ch gmbh//veranstaltungsausgabe v2.0//DE
VERSION:2.0
METHOD:PUBLISH
BEGIN:VEVENT
DTSTART:20260719T090000Z
DTEND:20260719T100000Z
LOCATION:ref. Kirche Stäfa\, Kirchbühlstrasse 40\, 8712 Stäfa
TRANSP:OPAQUE
SEQUENCE:0
UID:59768-veranstaltung@ref-staefa-hombrechtikon.ch
DTSTAMP:20260310T132351Z
DESCRIPTION:Die Sonntagsschule ist ein den Themengottesdienst begleitendes
  Angebot für Kinder.\n\nIn der Sonntagsschule schauen wir uns zusammen
  jeweils eine ganz besondere biblische Geschichte an\, wir singen und
  spielen zusammen und wenn dann noch gebastelt wird\, kannst du sogar eine
  kleine Erinnerung mit nach Hause nehmen! \n\nDie Sonntagsschule findet
  jeweils am 3. Sonntag im Monat statt. Komm einfach mit deinen Eltern um
  11.00 Uhr in den Gottesdienst. Bevor die Predigt beginnt\, gehen wir
  gemeinsam in die Sonntagsschule im Forum Kirchbühl. Deine Eltern lässt
  du in der Kirche. Sie können dich nach dem Gottesdienst im Forum
  abholen. \n\nDie Sonntagsschule richtet sich in erster Linie an Kinder
  zwischen 6 und 12 Jahren. Wenn du ein bisschen jünger oder älter bist\,
  bist du natürlich auch herzlich willkommen!\n\nBis bald\n\nMelanie
  Schellhammer Jetzer\, Freiwillige Sonntagsschule
 \nmelanie.schellhammer@gmail.com\, Tel. 076 320 16 95\n\nKontakt: Monika
  Götte\n\nWeitere Infos:
  https://www.ref-staefa-hombrechtikon.ch/veranstaltung/59768
SUMMARY:Abgesagt - Sonntagsschule
PRIORITY:5
X-MICROSOFT-CDO-IMPORTANCE:1
CLASS:PUBLIC
END:VEVENT
END:VCALENDAR
