BEGIN:VCALENDAR
PRODID:-//kirchenweb.ch gmbh//veranstaltungsausgabe v2.0//DE
VERSION:2.0
METHOD:PUBLISH
BEGIN:VEVENT
DTSTART:20260609T134500Z
DTEND:20260609T151500Z
LOCATION:Forum Kirchbühl Stäfa\, \,
TRANSP:OPAQUE
SEQUENCE:0
UID:59744-veranstaltung@ref-staefa-hombrechtikon.ch
DTSTAMP:20250910T071840Z
DESCRIPTION:Für Kinder ab 4 - ca. 7 Jahre\n\nDer Kolibri findet jeden
  zweiten Dienstag von 15:45 – 17:15 im Forum statt. Wir werden gemeinsam
  einen kleinen Garten anlegen und pflegen. Aus den Kräutern können wir
  Tee\, Sirup\, Salbe und vieles mehr herstellen. Geschichten hören\,
  spielen\, basteln und singen stehen auch auf dem Programm.\n\nKontakt:
  Corina Hungerbühler\n\nWeitere Infos:
  https://www.ref-staefa-hombrechtikon.ch/veranstaltung/59744
SUMMARY:Kolibri
PRIORITY:5
X-MICROSOFT-CDO-IMPORTANCE:1
CLASS:PUBLIC
END:VEVENT
END:VCALENDAR
