BEGIN:VCALENDAR
PRODID:-//kirchenweb.ch gmbh//veranstaltungsausgabe v2.0//DE
VERSION:2.0
METHOD:PUBLISH
BEGIN:VEVENT
DTSTART:20260326T083000Z
DTEND:20260326T100000Z
LOCATION:Forum Kirchbühl Stäfa\, Kirchbühlstrasse 40\, 8712 Stäfa
TRANSP:OPAQUE
SEQUENCE:0
UID:59513-veranstaltung@ref-staefa-hombrechtikon.ch
DTSTAMP:20260302T164817Z
DESCRIPTION:Gemeinsam während der Wintermonate sich begegnen\, zuhören
  und miteinander ins Gespräch kommen: Annette Kreis liest aus
  Kurzgeschichten und Romanen – aus welchem Kulturkreis diese stammen
  werden\, soll mit den Teilnehmenden im November besprochen werden.\n\nDer
  Vorlesekreis ist eine Veranstaltung für Menschen\, die Freude an der
  Literatur und an der gelesenen Sprache haben\, sowie für Menschen\, die
  das Zusammensein und den Austausch schätzen. \n\nIm März steht die
  englische Literatur im Mittelpunkt und mit ihr die bekannte
  Schriftstellerin Virginia Woolf. Annette Kreis liest von dieser Autorin
  eine Kurzgeschichte sowie ein Essay über schreibende Frauen.\n\n\nIm
  Winterhalbjahr\, jeweils Donnerstag von 9.30 bis ca. 11.00 Uhr:\n
 \n26.3.26\n\nKontakt: 	\nAnnette Kreis\nannettekreis@bluewin.ch\nTel: 079
  531 92 76\n\nKontakt: Monika Kaspar\n\nWeitere Infos:
  https://www.ref-staefa-hombrechtikon.ch/veranstaltung/59513
SUMMARY:Vorlesekreis
PRIORITY:5
X-MICROSOFT-CDO-IMPORTANCE:1
CLASS:PUBLIC
END:VEVENT
END:VCALENDAR
