BEGIN:VCALENDAR
PRODID:-//kirchenweb.ch gmbh//veranstaltungsausgabe v2.0//DE
VERSION:2.0
METHOD:PUBLISH
BEGIN:VEVENT
DTSTART:20260410T140000Z
DTEND:20260410T144500Z
LOCATION:Forum Kirchbühl\, Kirchbühlstrasse 40\, 8712 Stäfa
TRANSP:OPAQUE
SEQUENCE:0
UID:59346-veranstaltung@ref-staefa-hombrechtikon.ch
DTSTAMP:20260210T160352Z
DESCRIPTION:gemeinsame Probe Cantalino A und B am Donnerstag\, 9. April
  2026\, 16.00 - 16.45 Uhr\n\nKontakt: Katharina Maier-Boesch\n\nWeitere
  Infos: https://www.ref-staefa-hombrechtikon.ch/veranstaltung/59346
SUMMARY:Singschule: Cantalino C keine Probe
PRIORITY:5
X-MICROSOFT-CDO-IMPORTANCE:1
CLASS:PUBLIC
END:VEVENT
END:VCALENDAR
