BEGIN:VCALENDAR
PRODID:-//kirchenweb.ch gmbh//veranstaltungsausgabe v2.0//DE
VERSION:2.0
METHOD:PUBLISH
BEGIN:VEVENT
DTSTART:20261025T160000Z
DTEND:20261025T183000Z
LOCATION:Forum Kirchbühl Stäfa\, \,
TRANSP:OPAQUE
SEQUENCE:0
UID:59228-veranstaltung@ref-staefa-hombrechtikon.ch
DTSTAMP:20260314T152941Z
DESCRIPTION:Kontakt: Elisabeth Görnitz\n\nWeitere Infos:
  https://www.ref-staefa-hombrechtikon.ch/veranstaltung/59228
SUMMARY:Kirche Kunterbunt
PRIORITY:5
X-MICROSOFT-CDO-IMPORTANCE:1
CLASS:PUBLIC
END:VEVENT
END:VCALENDAR
