BEGIN:VCALENDAR
PRODID:-//kirchenweb.ch gmbh//veranstaltungsausgabe v2.0//DE
VERSION:2.0
METHOD:PUBLISH
BEGIN:VEVENT
DTSTART:20260510T150000Z
DTEND:20260510T173000Z
LOCATION:Forum Kirchbühl Stäfa\, \,
TRANSP:OPAQUE
SEQUENCE:0
UID:59225-veranstaltung@ref-staefa-hombrechtikon.ch
DTSTAMP:20260331T103300Z
DESCRIPTION:„Mit meinem Gott springe ich über Mauern.“ (Psalm 18\,30)
 \n\nNehmt die Beine in die Hand und lauft herbei zur nächsten Kirche
  Kunterbunt.\nMit dem ermutigenden Bibelvers als Thema werden wir Bälle
  kicken\, hüpfen und springen\, sowie Mutmacher und Spiele für zu Hause
  basteln. Ihr könnt auch euer sportliches Wissen testen und zeigen\, wie
  gelenkig ihr seid.\n\nNach der Aktivzeit gehen wir gemeinsam um 18 Uhr
  für eine kurze Gottesdienstfeier in die Kirche. Dort versuchen wir\, ein
  grosses Hindernis zu überwinden – natürlich mit Gottes Hilfe.\n
 \nAlle\, die vom Toben und Klettern hungrig geworden sind\, sind herzlich
  zum Znacht eingeladen. Das Ende ist offen\, d.h. alle müden Kinder
  können sich auch vor oder während des Znacht verabschieden.\n\nZur
  besseren Planung bitten wir um Anmeldung.\nWenn ihr nicht zum Znacht
  bleibt\, schreibt es gerne in den Hinweis.\n\n\n\n\nKontakt: Elisabeth
  Görnitz\n\nWeitere Infos:
  https://www.ref-staefa-hombrechtikon.ch/veranstaltung/59225
SUMMARY:Kirche Kunterbunt
PRIORITY:5
X-MICROSOFT-CDO-IMPORTANCE:1
CLASS:PUBLIC
END:VEVENT
END:VCALENDAR
