BEGIN:VCALENDAR
PRODID:-//kirchenweb.ch gmbh//veranstaltungsausgabe v2.0//DE
VERSION:2.0
METHOD:PUBLISH
BEGIN:VEVENT
DTSTART:20260619T170000Z
DTEND:20260619T180000Z
LOCATION:ref. Kirche Stäfa\, Kirchbühlstrasse 40\, 8712 Stäfa
TRANSP:OPAQUE
SEQUENCE:0
UID:59204-veranstaltung@ref-staefa-hombrechtikon.ch
DTSTAMP:20260317T120936Z
DESCRIPTION:Dauer ca. 1 Std.\n\nKontakt: Katharina Maier-Boesch\n\nWeitere
  Infos: https://www.ref-staefa-hombrechtikon.ch/veranstaltung/59204
SUMMARY:Singschule: Sommerkonzert mit allen Chorgruppen
PRIORITY:5
X-MICROSOFT-CDO-IMPORTANCE:1
CLASS:PUBLIC
END:VEVENT
END:VCALENDAR
