BEGIN:VCALENDAR
PRODID:-//kirchenweb.ch gmbh//veranstaltungsausgabe v2.0//DE
VERSION:2.0
METHOD:PUBLISH
BEGIN:VEVENT
DTSTART:20261129T160000Z
DTEND:20261129T170000Z
LOCATION:ref. Kirche Hombrechtikon\, Oetwilerstrasse 35\, 8634
  Hombrechtikon
TRANSP:OPAQUE
SEQUENCE:0
UID:59138-veranstaltung@ref-staefa-hombrechtikon.ch
DTSTAMP:20260331T073042Z
DESCRIPTION:Der ref. Kirchenchor Hombrechtikon\, Schüler:innen und ein
  Streichensemble der Jugendmusikschule Hombrechtikon sowie
  Blockflötistinnen musizieren zusammen. \n\nLeitung Christian Bielefeldt
  und Pfarrer Tobias Kuratle \n\n\nKontakt: Evelyne Lott\n\nWeitere Infos:
  https://www.ref-staefa-hombrechtikon.ch/veranstaltung/59138
SUMMARY:Adventssingen mit dem Kirchenchor Hombrechtikon
PRIORITY:5
X-MICROSOFT-CDO-IMPORTANCE:1
CLASS:PUBLIC
END:VEVENT
END:VCALENDAR
