BEGIN:VCALENDAR
PRODID:-//kirchenweb.ch gmbh//veranstaltungsausgabe v2.0//DE
VERSION:2.0
METHOD:PUBLISH
BEGIN:VEVENT
DTSTART:20261031T090000Z
DTEND:20261031T110000Z
LOCATION:Kirche\, Kirchbühlstrasse 40\, 8712 Stäfa
TRANSP:OPAQUE
SEQUENCE:0
UID:59132-veranstaltung@ref-staefa-hombrechtikon.ch
DTSTAMP:20260217T141852Z
DESCRIPTION:Kontakt: Appenzeller Luzius\, 044 910 08 63 \n\nWeitere Infos:
  https://www.ref-staefa-hombrechtikon.ch/veranstaltung/59132
SUMMARY:Hauptprobe Kirchenchöre Hombrechtikon und Stäfa
PRIORITY:5
X-MICROSOFT-CDO-IMPORTANCE:1
CLASS:PUBLIC
END:VEVENT
END:VCALENDAR
