BEGIN:VCALENDAR
PRODID:-//kirchenweb.ch gmbh//veranstaltungsausgabe v2.0//DE
VERSION:2.0
METHOD:PUBLISH
BEGIN:VEVENT
DTSTART;VALUE=DATE:20260516
DTEND;VALUE=DATE:20260517
LOCATION:Extern\, \,
TRANSP:OPAQUE
SEQUENCE:0
UID:59094-veranstaltung@ref-staefa-hombrechtikon.ch
DTSTAMP:20250707T221754Z
DESCRIPTION:Kontakt: Elisabeth Görnitz\nTobias Kuratle\n\nWeitere Infos:
  https://www.ref-staefa-hombrechtikon.ch/veranstaltung/59094
SUMMARY:Konf-Lager
PRIORITY:5
X-MICROSOFT-CDO-IMPORTANCE:1
CLASS:PUBLIC
END:VEVENT
END:VCALENDAR
