BEGIN:VCALENDAR
PRODID:-//kirchenweb.ch gmbh//veranstaltungsausgabe v2.0//DE
VERSION:2.0
METHOD:PUBLISH
BEGIN:VEVENT
DTSTART:20261101T090000Z
DTEND:20261101T093000Z
LOCATION:ref. Kirche Stäfa\, Kirchbühlstrasse 40\, 8712 Stäfa
TRANSP:OPAQUE
SEQUENCE:0
UID:58993-veranstaltung@ref-staefa-hombrechtikon.ch
DTSTAMP:20260327T163053Z
DESCRIPTION:Kontakt: gottesdienste.ref-staefa@ref-staefa-hombrechtikon.ch
 \n\nWeitere Infos:
  https://www.ref-staefa-hombrechtikon.ch/veranstaltung/58993
SUMMARY:Matinée mit den Kirchenchören Hombrechtikon und Stäfa
PRIORITY:5
X-MICROSOFT-CDO-IMPORTANCE:1
CLASS:PUBLIC
END:VEVENT
END:VCALENDAR
