BEGIN:VCALENDAR
PRODID:-//kirchenweb.ch gmbh//veranstaltungsausgabe v2.0//DE
VERSION:2.0
METHOD:PUBLISH
BEGIN:VEVENT
DTSTART:20260826T173000Z
DTEND:20260826T191500Z
LOCATION:Kirchgemeindehaus Blatten\, Bahnweg 6\, 8634 Hombrechtikon
TRANSP:OPAQUE
SEQUENCE:0
UID:58933-veranstaltung@ref-staefa-hombrechtikon.ch
DTSTAMP:20250620T115422Z
DESCRIPTION:Kontakt: Evelyne Lott\n\nWeitere Infos:
  https://www.ref-staefa-hombrechtikon.ch/veranstaltung/58933
SUMMARY:ref. Kirchenchor Hombrechtikon Probe
PRIORITY:5
X-MICROSOFT-CDO-IMPORTANCE:1
CLASS:PUBLIC
END:VEVENT
END:VCALENDAR
