BEGIN:VCALENDAR
PRODID:-//kirchenweb.ch gmbh//veranstaltungsausgabe v2.0//DE
VERSION:2.0
METHOD:PUBLISH
BEGIN:VEVENT
DTSTART:20261030T130000Z
DTEND:20261030T150000Z
LOCATION:Forum Kirchbühl\, \,
TRANSP:OPAQUE
SEQUENCE:0
UID:58829-veranstaltung@ref-staefa-hombrechtikon.ch
DTSTAMP:20260107T074903Z
DESCRIPTION:Kontakt: Monika Kaspar\n\nWeitere Infos:
  https://www.ref-staefa-hombrechtikon.ch/veranstaltung/58829
SUMMARY:Angehörigengruppe für Menschen mit Demenz
PRIORITY:5
X-MICROSOFT-CDO-IMPORTANCE:1
CLASS:PUBLIC
END:VEVENT
END:VCALENDAR
