BEGIN:VCALENDAR
PRODID:-//kirchenweb.ch gmbh//veranstaltungsausgabe v2.0//DE
VERSION:2.0
METHOD:PUBLISH
BEGIN:VEVENT
DTSTART:20260908T120000Z
DTEND:20260908T150000Z
LOCATION:Forum Kirchbühl\, \,
TRANSP:OPAQUE
SEQUENCE:0
UID:58816-veranstaltung@ref-staefa-hombrechtikon.ch
DTSTAMP:20250911T154032Z
DESCRIPTION:Jeweils monatlich an einem Dienstagnachmittag (ausser während
  den Schulferien) kommen spiel- und jassbegeisterte Menschen jeden Alters
  auf ihre Rechnung! Alle spielfreudigen Personen\, welche gerne mit
  anderen spielen und jassen\, sind bei uns im Forum Kirchbühl willkommen.
  Viele Spiele wie Lotto\, Scrabble\, Rummy\, Brändi Dog oder Halma sind
  vorhanden\, aber auch für die Jasser liegen die Karten\, der Jassteppich
  und die Kreide bereit. Es ist keine Anmeldung nötig\, der Anlass ist
  kostenlos – wir freuen uns auf Sie!\n\nÜbrigens: Wir sind sehr daran
  interessiert\, neue spielbegeisterte Frauen und Männer\, in unserem
  Vorbereitungsteam willkommen zu heissen! \n\nKontakt: Monika Kaspar\n
 \nWeitere Infos:
  https://www.ref-staefa-hombrechtikon.ch/veranstaltung/58816
SUMMARY:Spielen und Jassen im Forum Kirchbühl
PRIORITY:5
X-MICROSOFT-CDO-IMPORTANCE:1
CLASS:PUBLIC
END:VEVENT
END:VCALENDAR
