BEGIN:VCALENDAR
PRODID:-//kirchenweb.ch gmbh//veranstaltungsausgabe v2.0//DE
VERSION:2.0
METHOD:PUBLISH
BEGIN:VEVENT
DTSTART:20261105T130000Z
DTEND:20261105T143000Z
LOCATION:Forum Kirchbühl\, \,
TRANSP:OPAQUE
SEQUENCE:0
UID:58808-veranstaltung@ref-staefa-hombrechtikon.ch
DTSTAMP:20250829T065738Z
DESCRIPTION:Kontakt: Monika Kaspar\n\nWeitere Infos:
  https://www.ref-staefa-hombrechtikon.ch/veranstaltung/58808
SUMMARY:Trauercafé
PRIORITY:5
X-MICROSOFT-CDO-IMPORTANCE:1
CLASS:PUBLIC
END:VEVENT
END:VCALENDAR
