BEGIN:VCALENDAR
PRODID:-//kirchenweb.ch gmbh//veranstaltungsausgabe v2.0//DE
VERSION:2.0
METHOD:PUBLISH
BEGIN:VEVENT
DTSTART:20261111T080000Z
DTEND:20261111T090000Z
LOCATION:Forum Kirchbühl\, Kirchbühlstrasse 40\, 8712 Stäfa
TRANSP:OPAQUE
SEQUENCE:0
UID:58791-veranstaltung@ref-staefa-hombrechtikon.ch
DTSTAMP:20260128T083201Z
DESCRIPTION:Ein Treffpunkt für Frauen - von Frauen - mit Frauen. Jeden 2.
  Mittwoch im Monat mit einem anderen\, spannenden und interessanten
  Schwerpunktthema. Für Frauen jeden Alters!\n\nKosten Vortrag mit oder
  ohne Brunch Fr. 10.00.\n \nDie Veranstaltung findet im Forum Kirchbühl
  statt.\n\nHerzlich laden ein:\nDas Frauenbrunch-Team und Ursula Pernet\n
 \nKontakt\nUrsula Pernet\, Kirchbühlstrasse 40\, 8712 Stäfa\,
  ursula.pernet@ref-staefa-hombrechtikon.ch\, 043 543 96 86\n\n\n\n\n
 \nKontakt: Ursula Pernet\n\nWeitere Infos:
  https://www.ref-staefa-hombrechtikon.ch/veranstaltung/58791
SUMMARY:Frauenbrunch: "Leben über Wasser - eine Reise zum Tonlé Sap"
  einer der ärmsten Gegenden in Kambodscha
PRIORITY:5
X-MICROSOFT-CDO-IMPORTANCE:1
CLASS:PUBLIC
END:VEVENT
END:VCALENDAR
