BEGIN:VCALENDAR
PRODID:-//kirchenweb.ch gmbh//veranstaltungsausgabe v2.0//DE
VERSION:2.0
METHOD:PUBLISH
BEGIN:VEVENT
DTSTART:20260513T070000Z
DTEND:20260513T090000Z
LOCATION:Forum Kirchbühl\, Kirchbühlstrasse 40\, 8712 Stäfa
TRANSP:OPAQUE
SEQUENCE:0
UID:58787-veranstaltung@ref-staefa-hombrechtikon.ch
DTSTAMP:20260421T064257Z
DESCRIPTION:Ein Einblick hinter Klostermauern\nDie Gründung des
  Kapuzinerklosters Rapperswil geht auf das Jahr 1602 zurück. Die
  besondere Lage am Zürichsee\, am Rand der Altstadt\, macht sicher
  neugierig\, was sich hinter den Mauern verbirgt.\nEiner der Brüder wird
  uns die franziskanische Geschichte erläutern\, sowie die Lebensweise der
  Gemeinschaft\, die seit 1992 Gäste zum Mitleben aufnimmt. Der Rundgang
  im Kloster führt durch die Gemeinschaftsräume: Kirche\, Gebets- und
  Meditationsraum\, Kreuzgang und Refektorium (Essraum). Von der
  Klosterterrasse gibt es einen wunderbaren Blick über den Zürichsee zu
  den Inseln Lützelau und Ufnau.\n\nHerzlich laden ein:\nDas
  Frauenbrunch-Team und Ursula Pernet (Mitarbeiterin Sozialdiakonie).\n
 \nDie Veranstaltung ist auf 20 Personen limitiert. Sie können sich unten
  auf der Webseite oder telefonisch anmelden.\nKosten der Exkursion: Fr.
  10.00 \n\nKontakt:\nUrsula Pernet\, Kirchbühlstrasse 40\, 8712 Stäfa\,
  ursula.pernet@ref-staefa-hombrechtikon.ch\, 043 543 96 86\n\nProgramm:
 \nTreffpunkt Bahnhof Stäfa auf dem Perron: 08.38 Uhr\nAnkunft in
  Rapperswil: 08.52 Uhr\n\nFussweg zum Kloster: ca. 8 Min.\nDie Führung
  dauert ca. 60 Min.\n\nAbfahrt in Rapperswil: 11.09 Uhr\nAnkunft in
  Stäfa: 11.22 Uhr\n\nZugticket:\nDie Teilnehmerinnen lösen ihr Zugticket
  selber.\n\n\nNächster Frauenbrunch:\nMittwoch\, 21.10.2026 von 09.00 –
  11-00 Uhr\nThema: KI (Künstliche Intelligenz)\, ein Buch mit sieben
  Siegeln?\nmit Chiara Salvi\, Jugendarbeiterin in Ausbildung\, ref. Kirche
  Stäfa-Hombrechtikon\n\n\n\nKontakt: Ursula Pernet\n\nWeitere Infos:
  https://www.ref-staefa-hombrechtikon.ch/veranstaltung/58787
SUMMARY:Ausgebucht - Frauenbrunch unterwegs: Besuch des Kapuzinerklosters
  Rapperswil
PRIORITY:5
X-MICROSOFT-CDO-IMPORTANCE:1
CLASS:PUBLIC
END:VEVENT
END:VCALENDAR
