BEGIN:VCALENDAR
PRODID:-//kirchenweb.ch gmbh//veranstaltungsausgabe v2.0//DE
VERSION:2.0
METHOD:PUBLISH
BEGIN:VEVENT
DTSTART:20260408T070000Z
DTEND:20260408T080000Z
LOCATION:Forum Kirchbühl\, Kirchbühlstrasse 40\, 8712 Stäfa
TRANSP:OPAQUE
SEQUENCE:0
UID:58786-veranstaltung@ref-staefa-hombrechtikon.ch
DTSTAMP:20260324T080024Z
DESCRIPTION:Während früher Aberglaube\, Mythologie und Religion Ursache
  ständiger Verfolgung waren\, ist heute vor allem die Zerstörung ihrer
  Lebensräume für den Rückgang der harmlosen und nützlichen Fledertiere
  verantwortlich. Wo die Strukturvielfalt der Umwelt zusehends verarmt und
  das Nahrungsangebot drastisch abnimmt\, haben Fledermäuse kaum noch eine
  Überlebenschance.\nUm die 20 Fledermausarten leben im Kanton Zürich
  und einige davon auch in und um Stäfa und Umgebung. Die für uns völlig
  ungefährlichen kleinen Flatterer sind nachtaktiv und können als einzige
  Säugetiere aktiv fliegen. Alle europäischen Fledermäuse sind reine
  Insektenfresser. Aber wie jagen sie in völliger Dunkelheit? \nGeorgina
  Brandenberger\, Co-Präsidentin Naturschutzverein
  Männedorf-Uetikon-Oetwil NVMU\, Lokale Fledermausschützende und
  Exkursionsleiterin für Fledermäuse und Vögel für Oetwil am See und
  Umgebung erzählt uns in ihrem Vortrag die spannende Lebensweise diese
  besonderen Tiere.\n\nVeranstaltung ohne Anmeldung.\nKosten für Referat
  und Brunch: Fr. 10.00\n\nBei diesem Anlass sind alle Frauen\, unabhängig
  von Konfession und Alter eingeladen. \n\nHerzlich laden ein:\nDas
  Frauenbrunch-Team und Ursula Pernet (Sozialdiakonie)\n\n\nNächster
  Frauenbrunch:\nDatum: 13.05.2026 von 09.00 – 11-00 Uhr \nThema:\nBesuch
  des Kapuzinerklosters in Rapperswil\nDies ist ein externer Frauenbrunch
  mit Anmeldung\n\n\n\n\nKontakt: Ursula Pernet\n\nWeitere Infos:
  https://www.ref-staefa-hombrechtikon.ch/veranstaltung/58786
SUMMARY:Frauenbrunch: Fledermäuse – geheimnisvoll und doch mitten unter
  uns
PRIORITY:5
X-MICROSOFT-CDO-IMPORTANCE:1
CLASS:PUBLIC
END:VEVENT
END:VCALENDAR
