BEGIN:VCALENDAR
PRODID:-//kirchenweb.ch gmbh//veranstaltungsausgabe v2.0//DE
VERSION:2.0
METHOD:PUBLISH
BEGIN:VEVENT
DTSTART:20260817T160000Z
DTEND:20260817T171500Z
LOCATION:Forum Kirchbühl Stäfa\, Kirchbühlstrasse 40\, 8712 Stäfa
TRANSP:OPAQUE
SEQUENCE:0
UID:58763-veranstaltung@ref-staefa-hombrechtikon.ch
DTSTAMP:20260120T152553Z
DESCRIPTION:Alle zwei Wochen treffen wir uns\, um ein biblisches Buch zu
  besprechen. Nebst einer Einführung ins Buch tauchen wir in einen oder
  mehrere Abschnitte ein und diskutieren über ihre Aussagen und was sie
  uns heute für unser Leben zu sagen haben.\nEs sind keine Vorkenntnisse
  oder Vorarbeiten erforderlich\, einzig das Interesse\, sich mit der
  Bibel\, ihrer Geschichte und ihrer Aussage für heute
  auseinanderzusetzen. Eine regelmässige Teilnahme ist erfreulich\, aber
  nicht Voraussetzung. Eine Anmeldung ist nicht erforderlich.\n\nKontakt:
  Tobias Kuratle\n\nWeitere Infos:
  https://www.ref-staefa-hombrechtikon.ch/veranstaltung/58763
SUMMARY:Durch die Bibel für Berufstätige
PRIORITY:5
X-MICROSOFT-CDO-IMPORTANCE:1
CLASS:PUBLIC
END:VEVENT
END:VCALENDAR
