BEGIN:VCALENDAR
PRODID:-//kirchenweb.ch gmbh//veranstaltungsausgabe v2.0//DE
VERSION:2.0
METHOD:PUBLISH
BEGIN:VEVENT
DTSTART:20260402T073000Z
DTEND:20260402T110000Z
LOCATION:Kirchgemeindehaus Blatten\, Bahnweg 6\, 8634 Hombrechtikon
TRANSP:OPAQUE
SEQUENCE:0
UID:58463-veranstaltung@ref-staefa-hombrechtikon.ch
DTSTAMP:20260310T140230Z
DESCRIPTION:Am Gründonnerstag laden wir wieder ein zum gemeinsamen
  Eierfärben. Alle\, die gerne in einer\ngemütlichen Runde ihre Ostereier
  färben wollen\, sind herzlich willkommen. Unter der kundigen Anleitung
  von Vreni Alder\, Sonja Nick und Margrith Huber zaubern wir wieder die
  schönsten Ostereier in verschiedenen Naturfarben. Mit Pflänzli und
  Blüemli von der Wiese werden die Eier in Strümpfe gepackt und nach dem
  Kochen mit der Speckschwarte zum Glänzen gebracht.\nKinder sind
  willkommen in Begleitung eines Erwachsenen.\nDie Eier kosten 1.- pro
  Stück.\n\nAuskunft bei David Jäger\, 043 543 96 55\n\nAnmeldung nicht
  erforderlich.\n\nKontakt: David Jäger\n\nWeitere Infos:
  https://www.ref-staefa-hombrechtikon.ch/veranstaltung/58463
SUMMARY:Ostereierfärben
PRIORITY:5
X-MICROSOFT-CDO-IMPORTANCE:1
CLASS:PUBLIC
END:VEVENT
END:VCALENDAR
